BEGIN:VCALENDAR
VERSION:2.0
PRODID:-//wp-events-plugin.com//7.2.3.1//EN
BEGIN:VEVENT
UID:2@unkraut-erleben.de
DTSTART:20140621T120000Z
DTEND:20140621T170000Z
DTSTAMP:20140418T122726Z
URL:https://unkraut-erleben.de/events/schwitzhuettenzeremonie/
SUMMARY:Schwitzhüttenzeremonie
DESCRIPTION:die Pflanzen und Tiere genießen die warmen Sonnemstrahlen. Die
  Sommersonnwende wollen wir mit einer Schwitzhüttenzeremonie begehen. Die
 s ist eine kraftvolle Zeremonie zur Reinigung von Körper\, Geist und Seel
 e.
LOCATION:Fahrenzhausen\, Jartz\, Fahrenzhausen\, Deutschland
GEO:48.3616621;11.56317409999997
X-APPLE-STRUCTURED-LOCATION;VALUE=URI;X-ADDRESS=Jartz\, Fahrenzhausen\, Deu
 tschland;X-APPLE-RADIUS=100;X-TITLE=Fahrenzhausen:geo:48.3616621,11.563174
 09999997
END:VEVENT
END:VCALENDAR